BEGIN:VCALENDAR
VERSION:2.0
PRODID:-//Pictures London//Cinema Listings//EN
CALSCALE:GREGORIAN
METHOD:PUBLISH
X-WR-CALNAME:Pictures London Cinema
BEGIN:VEVENT
UID:183646b8-6a24-427f-8e50-7ce211b1004c@pictures.london
DTSTART:20260501T180000Z
DTEND:20260501T195900Z
SUMMARY:The Devil Wears Prada 2 (2026) at Ealing Picturehouse
DESCRIPTION:The Devil Wears Prada 2 (2026)\nat Ealing Picturehouse\nBook: https://www.picturehouses.com/movie-details/031/HO00017738/the-devil-wears-prada-2\nvia Pictures (pictures.london)
LOCATION:Ealing Picturehouse\, The Ealing Cinema\, Ealing Green\, Ealing\, W5 2PA
URL:https://www.picturehouses.com/movie-details/031/HO00017738/the-devil-wears-prada-2
STATUS:CONFIRMED
END:VEVENT
END:VCALENDAR