BEGIN:VCALENDAR
VERSION:2.0
PRODID:-//Pictures London//Cinema Listings//EN
CALSCALE:GREGORIAN
METHOD:PUBLISH
X-WR-CALNAME:Pictures London Cinema
BEGIN:VEVENT
UID:1831eed2-bf1a-4a23-b888-b553dd0cff10@pictures.london
DTSTART:20260421T124000Z
DTEND:20260421T141800Z
SUMMARY:The Super Mario Galaxy Movie (2026) at Curzon Kingston
DESCRIPTION:The Super Mario Galaxy Movie (2026)\nat Curzon Kingston\nBook: https://www.curzon.com/films/the-super-mario-galaxy-movie/HO00006890/\nvia Pictures (pictures.london)
LOCATION:Curzon Kingston\, Richmond Road\, Kingston\, KT2 5BW
URL:https://www.curzon.com/films/the-super-mario-galaxy-movie/HO00006890/
STATUS:CONFIRMED
END:VEVENT
END:VCALENDAR