BEGIN:VCALENDAR
VERSION:2.0
PRODID:-//Pictures London//Cinema Listings//EN
CALSCALE:GREGORIAN
METHOD:PUBLISH
X-WR-CALNAME:Pictures London Cinema
BEGIN:VEVENT
UID:1816e389-3b8c-4fb1-90c2-ae0c43d3bd3c@pictures.london
DTSTART:20260421T181500Z
DTEND:20260421T195100Z
SUMMARY:TwentyFourSeven (1998) at BFI Southbank
DESCRIPTION:TwentyFourSeven (1998)\nat BFI Southbank\nEvent: q and a\nBook: https://whatson.bfi.org.uk/Online/default.asp?doWork::WScontent::loadArticle=Load&BOparam::WScontent::loadArticle::article_id=163A01FD-5CA1-4BCA-BC88-F84C579BD36D&BOparam::WScontent::loadArticle::context_id=CE4D6F5A-D933-4E68-94C6-D3A7829BB95E\nvia Pictures (pictures.london)
LOCATION:BFI Southbank\, Belvedere Road\, South Bank\, SE1 8XT
URL:https://whatson.bfi.org.uk/Online/default.asp?doWork::WScontent::loadArticle=Load&BOparam::WScontent::loadArticle::article_id=163A01FD-5CA1-4BCA-BC88-F84C579BD36D&BOparam::WScontent::loadArticle::context_id=CE4D6F5A-D933-4E68-94C6-D3A7829BB95E
STATUS:CONFIRMED
END:VEVENT
END:VCALENDAR