BEGIN:VCALENDAR
VERSION:2.0
PRODID:-//Pictures London//Cinema Listings//EN
CALSCALE:GREGORIAN
METHOD:PUBLISH
X-WR-CALNAME:Pictures London Cinema
BEGIN:VEVENT
UID:17c46c02-2337-495b-8ad2-e4f7184ee7d0@pictures.london
DTSTART:20260428T205000Z
DTEND:20260428T223700Z
SUMMARY:Hokum (2026) at East Dulwich Picturehouse
DESCRIPTION:Hokum (2026)\nat East Dulwich Picturehouse\nEvent: preview\nBook: https://www.picturehouses.com/movie-details/009/HO00017849/hokum\nvia Pictures (pictures.london)
LOCATION:East Dulwich Picturehouse\, Lordship Lane\, East Dulwich\, SE22 8EW
URL:https://www.picturehouses.com/movie-details/009/HO00017849/hokum
STATUS:CONFIRMED
END:VEVENT
END:VCALENDAR