BEGIN:VCALENDAR
VERSION:2.0
PRODID:-//Pictures London//Cinema Listings//EN
CALSCALE:GREGORIAN
METHOD:PUBLISH
X-WR-CALNAME:Pictures London Cinema
BEGIN:VEVENT
UID:178455a9-3175-4cc7-ac88-80281111b310@pictures.london
DTSTART:20260424T194500Z
DTEND:20260424T213700Z
SUMMARY:Mother Mary (2026) at Everyman Broadgate
DESCRIPTION:Mother Mary (2026)\nat Everyman Broadgate\nBook: https://purchase.everymancinema.com/launch/ticketing/a77b4aa2-10d6-50ba-9a8d-8d193016fc7c\nvia Pictures (pictures.london)
LOCATION:Everyman Broadgate\, Broadgate Circle\, Liverpool Street\, EC2M 2QS
URL:https://purchase.everymancinema.com/launch/ticketing/a77b4aa2-10d6-50ba-9a8d-8d193016fc7c
STATUS:CONFIRMED
END:VEVENT
END:VCALENDAR