BEGIN:VCALENDAR
VERSION:2.0
PRODID:-//Pictures London//Cinema Listings//EN
CALSCALE:GREGORIAN
METHOD:PUBLISH
X-WR-CALNAME:Pictures London Cinema
BEGIN:VEVENT
UID:17780a0a-5c1d-4e4b-8268-86cc7ad51bce@pictures.london
DTSTART:20260501T133000Z
DTEND:20260501T152900Z
SUMMARY:The Devil Wears Prada 2 (2026) at Everyman Belsize Park
DESCRIPTION:The Devil Wears Prada 2 (2026)\nat Everyman Belsize Park\nBook: https://purchase.everymancinema.com/launch/ticketing/ca37591c-b857-5bb6-99a3-a594829fd438\nvia Pictures (pictures.london)
LOCATION:Everyman Belsize Park\, 203 Haverstock Hill\, Belsize Park\, NW3 4QG
URL:https://purchase.everymancinema.com/launch/ticketing/ca37591c-b857-5bb6-99a3-a594829fd438
STATUS:CONFIRMED
END:VEVENT
END:VCALENDAR