BEGIN:VCALENDAR
VERSION:2.0
PRODID:-//Pictures London//Cinema Listings//EN
CALSCALE:GREGORIAN
METHOD:PUBLISH
X-WR-CALNAME:Pictures London Cinema
BEGIN:VEVENT
UID:1765d936-828c-4f3e-a07e-2d2752e20877@pictures.london
DTSTART:20260422T173000Z
DTEND:20260422T185400Z
SUMMARY:Cold War Visions: Atomic War Bride (Rat) (1960) at Barbican Cinema
DESCRIPTION:Cold War Visions: Atomic War Bride (Rat) (1960)\nat Barbican Cinema\nBook: https://tickets.barbican.org.uk/choose-seats/3330401\nvia Pictures (pictures.london)
LOCATION:Barbican Cinema\, Silk Street\, Barbican\, EC2Y 8DS
URL:https://tickets.barbican.org.uk/choose-seats/3330401
STATUS:CONFIRMED
END:VEVENT
END:VCALENDAR