BEGIN:VCALENDAR
VERSION:2.0
PRODID:-//Pictures London//Cinema Listings//EN
CALSCALE:GREGORIAN
METHOD:PUBLISH
X-WR-CALNAME:Pictures London Cinema
BEGIN:VEVENT
UID:17588f62-536d-4a19-ad3e-5a74454ff1cc@pictures.london
DTSTART:20260501T133000Z
DTEND:20260501T152900Z
SUMMARY:The Devil Wears Prada 2 (2026) at The Gate
DESCRIPTION:The Devil Wears Prada 2 (2026)\nat The Gate\nBook: https://www.picturehouses.com/movie-details/016/HO00017738/the-devil-wears-prada-2\nvia Pictures (pictures.london)
LOCATION:The Gate\, 87 Notting Hill Gate\, Notting Hill\, W11 3JE
URL:https://www.picturehouses.com/movie-details/016/HO00017738/the-devil-wears-prada-2
STATUS:CONFIRMED
END:VEVENT
END:VCALENDAR