BEGIN:VCALENDAR
VERSION:2.0
PRODID:-//Pictures London//Cinema Listings//EN
CALSCALE:GREGORIAN
METHOD:PUBLISH
X-WR-CALNAME:Pictures London Cinema
BEGIN:VEVENT
UID:174e1f69-782d-4e53-9989-ad9b8e8607fb@pictures.london
DTSTART:20260421T191500Z
DTEND:20260421T205500Z
SUMMARY:The Christophers (2026) at Crouch End Picturehouse
DESCRIPTION:The Christophers (2026)\nat Crouch End Picturehouse\nEvent: preview\nBook: https://www.picturehouses.com/movie-details/024/HO00017892/the-christophers-live-broadcast-q-a\nvia Pictures (pictures.london)
LOCATION:Crouch End Picturehouse\, 165 Tottenham Lane\, Crouch End\, N8 8HP
URL:https://www.picturehouses.com/movie-details/024/HO00017892/the-christophers-live-broadcast-q-a
STATUS:CONFIRMED
END:VEVENT
END:VCALENDAR