BEGIN:VCALENDAR
VERSION:2.0
PRODID:-//Pictures London//Cinema Listings//EN
CALSCALE:GREGORIAN
METHOD:PUBLISH
X-WR-CALNAME:Pictures London Cinema
BEGIN:VEVENT
UID:160f9ebf-1d10-435d-b6b4-f9010713a265@pictures.london
DTSTART:20260515T223000Z
DTEND:20260516T003000Z
SUMMARY:Rio Forever / Never Ever: Ladies Night at Rio Cinema
DESCRIPTION:Rio Forever / Never Ever: Ladies Night\nat Rio Cinema\nBook: https://riocinema.org.uk/Rio.dll/WhatsOn?f=2403007\nvia Pictures (pictures.london)
LOCATION:Rio Cinema\, 107 Kingsland High Street\, Dalston\, E8 2PB
URL:https://riocinema.org.uk/Rio.dll/WhatsOn?f=2403007
STATUS:CONFIRMED
END:VEVENT
END:VCALENDAR