BEGIN:VCALENDAR
VERSION:2.0
PRODID:-//Pictures London//Cinema Listings//EN
CALSCALE:GREGORIAN
METHOD:PUBLISH
X-WR-CALNAME:Pictures London Cinema
BEGIN:VEVENT
UID:15eecc39-fd59-4c94-b701-2ed08f76fac9@pictures.london
DTSTART:20260423T203000Z
DTEND:20260423T223000Z
SUMMARY:Fearless + pre-recorded intro by actor Jeff Bridges at BFI Southbank
DESCRIPTION:Fearless + pre-recorded intro by actor Jeff Bridges\nat BFI Southbank\nFormat: DIGITAL\nBook: https://whatson.bfi.org.uk/Online/default.asp?doWork::WScontent::search=1&BOparam::WScontent::search::article_search_id=25E7EA2E-291F-44F9-8EBC-E560154FDAEB&BOset::WScontent::SearchCriteria::search_criteria=Fearless%20%2B%20pre-recorded%20intro%20by%20actor%20Jeff%20Bridges\nvia Pictures (pictures.london)
LOCATION:BFI Southbank\, Belvedere Road\, South Bank\, SE1 8XT
URL:https://whatson.bfi.org.uk/Online/default.asp?doWork::WScontent::search=1&BOparam::WScontent::search::article_search_id=25E7EA2E-291F-44F9-8EBC-E560154FDAEB&BOset::WScontent::SearchCriteria::search_criteria=Fearless%20%2B%20pre-recorded%20intro%20by%20actor%20Jeff%20Bridges
STATUS:CONFIRMED
END:VEVENT
END:VCALENDAR