BEGIN:VCALENDAR
VERSION:2.0
PRODID:-//Pictures London//Cinema Listings//EN
CALSCALE:GREGORIAN
METHOD:PUBLISH
X-WR-CALNAME:Pictures London Cinema
BEGIN:VEVENT
UID:155cdfea-4e9a-410c-89b5-2508fadd3d95@pictures.london
DTSTART:20260422T100000Z
DTEND:20260422T120700Z
SUMMARY:Michael (2026) at Everyman Maida Vale
DESCRIPTION:Michael (2026)\nat Everyman Maida Vale\nBook: https://purchase.everymancinema.com/launch/ticketing/f7082d93-5deb-537b-ab29-f7a24be5bbce\nvia Pictures (pictures.london)
LOCATION:Everyman Maida Vale\, 215 Sutherland Avenue\, Maida Vale\, W9 1TT
URL:https://purchase.everymancinema.com/launch/ticketing/f7082d93-5deb-537b-ab29-f7a24be5bbce
STATUS:CONFIRMED
END:VEVENT
END:VCALENDAR