BEGIN:VCALENDAR
VERSION:2.0
PRODID:-//Pictures London//Cinema Listings//EN
CALSCALE:GREGORIAN
METHOD:PUBLISH
X-WR-CALNAME:Pictures London Cinema
BEGIN:VEVENT
UID:1543fa6a-a49e-468f-a1bc-19f166fcf7a8@pictures.london
DTSTART:20260421T100000Z
DTEND:20260421T112600Z
SUMMARY:Miroirs No. 3 (2025) at Curzon Hoxton
DESCRIPTION:Miroirs No. 3 (2025)\nat Curzon Hoxton\nBook: https://www.curzon.com/films/miroirs-no-3/HO00006902/\nvia Pictures (pictures.london)
LOCATION:Curzon Hoxton\, 58 Pitfield Street\, Hoxton\, N1 6NU
URL:https://www.curzon.com/films/miroirs-no-3/HO00006902/
STATUS:CONFIRMED
END:VEVENT
END:VCALENDAR