BEGIN:VCALENDAR
VERSION:2.0
PRODID:-//Pictures London//Cinema Listings//EN
CALSCALE:GREGORIAN
METHOD:PUBLISH
X-WR-CALNAME:Pictures London Cinema
BEGIN:VEVENT
UID:142d86e6-74bd-4f4e-bc79-4eef21b9e7f5@pictures.london
DTSTART:20260420T204500Z
DTEND:20260420T221500Z
SUMMARY:D Is for Distance (2026) at BFI Southbank
DESCRIPTION:D Is for Distance (2026)\nat BFI Southbank\nFormat: DIGITAL 4K\nBook: https://whatson.bfi.org.uk/Online/default.asp?doWork::WScontent::search=1&BOparam::WScontent::search::article_search_id=25E7EA2E-291F-44F9-8EBC-E560154FDAEB&BOset::WScontent::SearchCriteria::search_criteria=D%20is%20for%20Distance\nvia Pictures (pictures.london)
LOCATION:BFI Southbank\, Belvedere Road\, South Bank\, SE1 8XT
URL:https://whatson.bfi.org.uk/Online/default.asp?doWork::WScontent::search=1&BOparam::WScontent::search::article_search_id=25E7EA2E-291F-44F9-8EBC-E560154FDAEB&BOset::WScontent::SearchCriteria::search_criteria=D%20is%20for%20Distance
STATUS:CONFIRMED
END:VEVENT
END:VCALENDAR