BEGIN:VCALENDAR
VERSION:2.0
PRODID:-//Pictures London//Cinema Listings//EN
CALSCALE:GREGORIAN
METHOD:PUBLISH
X-WR-CALNAME:Pictures London Cinema
BEGIN:VEVENT
UID:14027c0c-46be-43b6-97ef-9f8940c6cae4@pictures.london
DTSTART:20260421T173000Z
DTEND:20260421T192000Z
SUMMARY:Father Mother Sister Brother (2025) at The Ritzy
DESCRIPTION:Father Mother Sister Brother (2025)\nat The Ritzy\nBook: https://www.picturehouses.com/movie-details/004/HO00017851/father-mother-sister-brother\nvia Pictures (pictures.london)
LOCATION:The Ritzy\, Brixton Oval\, Coldharbour Lane\, Brixton\, SW2 1JG
URL:https://www.picturehouses.com/movie-details/004/HO00017851/father-mother-sister-brother
STATUS:CONFIRMED
END:VEVENT
END:VCALENDAR