BEGIN:VCALENDAR
VERSION:2.0
PRODID:-//Pictures London//Cinema Listings//EN
CALSCALE:GREGORIAN
METHOD:PUBLISH
X-WR-CALNAME:Pictures London Cinema
BEGIN:VEVENT
UID:13ac1c25-b105-4097-9158-56ab68872ecb@pictures.london
DTSTART:20260425T140000Z
DTEND:20260425T155200Z
SUMMARY:Gallipoli (1981) at Finsbury Park Picturehouse
DESCRIPTION:Gallipoli (1981)\nat Finsbury Park Picturehouse\nBook: https://www.picturehouses.com/movie-details/029/HO00014440/lafs-presents-gallipoli\nvia Pictures (pictures.london)
LOCATION:Finsbury Park Picturehouse\, Unit B\, Finsbury Park Station\, Finsbury Park\, N4 3FP
URL:https://www.picturehouses.com/movie-details/029/HO00014440/lafs-presents-gallipoli
STATUS:CONFIRMED
END:VEVENT
END:VCALENDAR