BEGIN:VCALENDAR
VERSION:2.0
PRODID:-//Pictures London//Cinema Listings//EN
CALSCALE:GREGORIAN
METHOD:PUBLISH
X-WR-CALNAME:Pictures London Cinema
BEGIN:VEVENT
UID:136923a2-26bd-4133-846f-fe4e9a7375a7@pictures.london
DTSTART:20260421T171500Z
DTEND:20260421T190000Z
SUMMARY:The Drama (2026) at Curzon Victoria
DESCRIPTION:The Drama (2026)\nat Curzon Victoria\nBook: https://www.curzon.com/films/the-drama/HO00006892/\nvia Pictures (pictures.london)
LOCATION:Curzon Victoria\, 58 Victoria Street\, Victoria\, SW1E 5JA
URL:https://www.curzon.com/films/the-drama/HO00006892/
STATUS:CONFIRMED
END:VEVENT
END:VCALENDAR