BEGIN:VCALENDAR
VERSION:2.0
PRODID:-//Pictures London//Cinema Listings//EN
CALSCALE:GREGORIAN
METHOD:PUBLISH
X-WR-CALNAME:Pictures London Cinema
BEGIN:VEVENT
UID:132a9615-039a-4b46-9aec-8cb91ea45331@pictures.london
DTSTART:20260422T183000Z
DTEND:20260422T202300Z
SUMMARY:Made in Dagenham (2010) at David Lean Cinema
DESCRIPTION:Made in Dagenham (2010)\nat David Lean Cinema\nBook: https://tinyurl.com/cnk3d5n9\nvia Pictures (pictures.london)
LOCATION:David Lean Cinema\, The Clocktower\, Croydon Airport\, Croydon\, CR0 0XZ
URL:https://tinyurl.com/cnk3d5n9
STATUS:CONFIRMED
END:VEVENT
END:VCALENDAR