BEGIN:VCALENDAR
VERSION:2.0
PRODID:-//Pictures London//Cinema Listings//EN
CALSCALE:GREGORIAN
METHOD:PUBLISH
X-WR-CALNAME:Pictures London Cinema
BEGIN:VEVENT
UID:12eae3be-3dae-494a-a385-8d41ef6f5008@pictures.london
DTSTART:20260428T140500Z
DTEND:20260428T155800Z
SUMMARY:Scott Pilgrim vs. the World (2010) at Prince Charles Cinema
DESCRIPTION:Scott Pilgrim vs. the World (2010)\nat Prince Charles Cinema\nBook: https://princecharlescinema.com/prince-charles-cinema/booknow/31625637\nvia Pictures (pictures.london)
LOCATION:Prince Charles Cinema\, 7 Leicester Place\, Leicester Square\, WC2H 7BY
URL:https://princecharlescinema.com/prince-charles-cinema/booknow/31625637
STATUS:CONFIRMED
END:VEVENT
END:VCALENDAR