BEGIN:VCALENDAR
VERSION:2.0
PRODID:-//Pictures London//Cinema Listings//EN
CALSCALE:GREGORIAN
METHOD:PUBLISH
X-WR-CALNAME:Pictures London Cinema
BEGIN:VEVENT
UID:125c8063-83ff-4a54-9b76-4ffb75a22151@pictures.london
DTSTART:20260428T153000Z
DTEND:20260428T185100Z
SUMMARY:Giant (1956) at Finsbury Park Picturehouse
DESCRIPTION:Giant (1956)\nat Finsbury Park Picturehouse\nBook: https://www.picturehouses.com/movie-details/029/HO00017682/giant\nvia Pictures (pictures.london)
LOCATION:Finsbury Park Picturehouse\, Unit B\, Finsbury Park Station\, Finsbury Park\, N4 3FP
URL:https://www.picturehouses.com/movie-details/029/HO00017682/giant
STATUS:CONFIRMED
END:VEVENT
END:VCALENDAR