BEGIN:VCALENDAR
VERSION:2.0
PRODID:-//Pictures London//Cinema Listings//EN
CALSCALE:GREGORIAN
METHOD:PUBLISH
X-WR-CALNAME:Pictures London Cinema
BEGIN:VEVENT
UID:124f5b42-4435-4720-9647-f5c2a72c3431@pictures.london
DTSTART:20260421T200000Z
DTEND:20260421T220800Z
SUMMARY:Kiss of the Spider Woman (2025) at Curzon Victoria
DESCRIPTION:Kiss of the Spider Woman (2025)\nat Curzon Victoria\nBook: https://www.curzon.com/films/kiss-of-the-spider-woman/HO00006968/\nvia Pictures (pictures.london)
LOCATION:Curzon Victoria\, 58 Victoria Street\, Victoria\, SW1E 5JA
URL:https://www.curzon.com/films/kiss-of-the-spider-woman/HO00006968/
STATUS:CONFIRMED
END:VEVENT
END:VCALENDAR