BEGIN:VCALENDAR
VERSION:2.0
PRODID:-//Pictures London//Cinema Listings//EN
CALSCALE:GREGORIAN
METHOD:PUBLISH
X-WR-CALNAME:Pictures London Cinema
BEGIN:VEVENT
UID:123388e4-3cb8-4292-967a-7bf953ce1293@pictures.london
DTSTART:20260427T190000Z
DTEND:20260427T211900Z
SUMMARY:The Charge of the Light Brigade (1968) at Garden Cinema
DESCRIPTION:The Charge of the Light Brigade (1968)\nat Garden Cinema\nBook: https://bookings.thegardencinema.co.uk/TheGardenCinema.dll/TSelectItems.waSelectItemsPrompt.TcsWebMenuItem_0.TcsWebTab_0.TcsPerformance_5234991.TcsSection_971\nvia Pictures (pictures.london)
LOCATION:Garden Cinema\, 39-41 Parker Street\, Covent Garden\, WC2B 5PQ
URL:https://bookings.thegardencinema.co.uk/TheGardenCinema.dll/TSelectItems.waSelectItemsPrompt.TcsWebMenuItem_0.TcsWebTab_0.TcsPerformance_5234991.TcsSection_971
STATUS:CONFIRMED
END:VEVENT
END:VCALENDAR