BEGIN:VCALENDAR
VERSION:2.0
PRODID:-//Pictures London//Cinema Listings//EN
CALSCALE:GREGORIAN
METHOD:PUBLISH
X-WR-CALNAME:Pictures London Cinema
BEGIN:VEVENT
UID:11b600f9-336d-4ba2-b0ba-ce1558df59dc@pictures.london
DTSTART:20260428T190000Z
DTEND:20260428T221300Z
SUMMARY:Céline and Julie Go Boating (1974) at Prince Charles Cinema
DESCRIPTION:Céline and Julie Go Boating (1974)\nat Prince Charles Cinema\nFormat: 35MM\nBook: https://princecharlescinema.com/prince-charles-cinema/booknow/31625631\nvia Pictures (pictures.london)
LOCATION:Prince Charles Cinema\, 7 Leicester Place\, Leicester Square\, WC2H 7BY
URL:https://princecharlescinema.com/prince-charles-cinema/booknow/31625631
STATUS:CONFIRMED
END:VEVENT
END:VCALENDAR