BEGIN:VCALENDAR
VERSION:2.0
PRODID:-//Pictures London//Cinema Listings//EN
CALSCALE:GREGORIAN
METHOD:PUBLISH
X-WR-CALNAME:Pictures London Cinema
BEGIN:VEVENT
UID:11a11249-0a76-4342-bd5e-be3c2e68ccb4@pictures.london
DTSTART:20260421T190000Z
DTEND:20260421T213700Z
SUMMARY:Project Hail Mary (2026) at The Ritzy
DESCRIPTION:Project Hail Mary (2026)\nat The Ritzy\nBook: https://www.picturehouses.com/movie-details/004/HO00017624/project-hail-mary\nvia Pictures (pictures.london)
LOCATION:The Ritzy\, Brixton Oval\, Coldharbour Lane\, Brixton\, SW2 1JG
URL:https://www.picturehouses.com/movie-details/004/HO00017624/project-hail-mary
STATUS:CONFIRMED
END:VEVENT
END:VCALENDAR