BEGIN:VCALENDAR
VERSION:2.0
PRODID:-//Pictures London//Cinema Listings//EN
CALSCALE:GREGORIAN
METHOD:PUBLISH
X-WR-CALNAME:Pictures London Cinema
BEGIN:VEVENT
UID:11688b33-3bef-4c2c-ac68-290772f91d9d@pictures.london
DTSTART:20260421T203000Z
DTEND:20260421T221500Z
SUMMARY:The Drama (2026) at Everyman Stratford International
DESCRIPTION:The Drama (2026)\nat Everyman Stratford International\nBook: https://purchase.everymancinema.com/launch/ticketing/9b0a9361-e472-5356-a719-f7c7565d5908\nvia Pictures (pictures.london)
LOCATION:Everyman Stratford International\, International Way\, Stratford\, E20 1GL
URL:https://purchase.everymancinema.com/launch/ticketing/9b0a9361-e472-5356-a719-f7c7565d5908
STATUS:CONFIRMED
END:VEVENT
END:VCALENDAR