BEGIN:VCALENDAR
VERSION:2.0
PRODID:-//Pictures London//Cinema Listings//EN
CALSCALE:GREGORIAN
METHOD:PUBLISH
X-WR-CALNAME:Pictures London Cinema
BEGIN:VEVENT
UID:11367479-901f-4238-8908-4c25bb9b46e6@pictures.london
DTSTART:20260422T163000Z
DTEND:20260422T183700Z
SUMMARY:Michael (2026) at Everyman Chelsea
DESCRIPTION:Michael (2026)\nat Everyman Chelsea\nBook: https://purchase.everymancinema.com/launch/ticketing/23767ce8-d98c-5394-b5c2-5f884421265d\nvia Pictures (pictures.london)
LOCATION:Everyman Chelsea\, 279 King's Road\, Chelsea\, SW3 3TD
URL:https://purchase.everymancinema.com/launch/ticketing/23767ce8-d98c-5394-b5c2-5f884421265d
STATUS:CONFIRMED
END:VEVENT
END:VCALENDAR