BEGIN:VCALENDAR
VERSION:2.0
PRODID:-//Pictures London//Cinema Listings//EN
CALSCALE:GREGORIAN
METHOD:PUBLISH
X-WR-CALNAME:Pictures London Cinema
BEGIN:VEVENT
UID:113319fe-2523-43b0-838a-0239b64096f2@pictures.london
DTSTART:20260422T202000Z
DTEND:20260422T213100Z
SUMMARY:Another Day\, Another Man + Elevator Girls in Bondage (1966) at BFI Southbank
DESCRIPTION:Another Day\, Another Man + Elevator Girls in Bondage (1966)\nat BFI Southbank\nEvent: intro\nBook: https://whatson.bfi.org.uk/Online/default.asp?doWork::WScontent::loadArticle=Load&BOparam::WScontent::loadArticle::article_id=C27A3AC9-22F0-4CBE-BBE8-DA233961E939&BOparam::WScontent::loadArticle::context_id=87C9B23E-D1F5-480A-9B1E-04322CA376EB\nvia Pictures (pictures.london)
LOCATION:BFI Southbank\, Belvedere Road\, South Bank\, SE1 8XT
URL:https://whatson.bfi.org.uk/Online/default.asp?doWork::WScontent::loadArticle=Load&BOparam::WScontent::loadArticle::article_id=C27A3AC9-22F0-4CBE-BBE8-DA233961E939&BOparam::WScontent::loadArticle::context_id=87C9B23E-D1F5-480A-9B1E-04322CA376EB
STATUS:CONFIRMED
END:VEVENT
END:VCALENDAR