BEGIN:VCALENDAR
VERSION:2.0
PRODID:-//Pictures London//Cinema Listings//EN
CALSCALE:GREGORIAN
METHOD:PUBLISH
X-WR-CALNAME:Pictures London Cinema
BEGIN:VEVENT
UID:1109209a-42eb-4d38-bdd0-3c20bd92ad2a@pictures.london
DTSTART:20260421T104500Z
DTEND:20260421T122300Z
SUMMARY:The Super Mario Galaxy Movie (2026) at Curzon Victoria
DESCRIPTION:The Super Mario Galaxy Movie (2026)\nat Curzon Victoria\nBook: https://www.curzon.com/films/the-super-mario-galaxy-movie/HO00006890/\nvia Pictures (pictures.london)
LOCATION:Curzon Victoria\, 58 Victoria Street\, Victoria\, SW1E 5JA
URL:https://www.curzon.com/films/the-super-mario-galaxy-movie/HO00006890/
STATUS:CONFIRMED
END:VEVENT
END:VCALENDAR