BEGIN:VCALENDAR
VERSION:2.0
PRODID:-//Pictures London//Cinema Listings//EN
CALSCALE:GREGORIAN
METHOD:PUBLISH
X-WR-CALNAME:Pictures London Cinema
BEGIN:VEVENT
UID:1105ffe8-7cf6-424d-b65e-50a1970671c4@pictures.london
DTSTART:20260421T201500Z
DTEND:20260421T221200Z
SUMMARY:The Stranger (2022) at Finsbury Park Picturehouse
DESCRIPTION:The Stranger (2022)\nat Finsbury Park Picturehouse\nBook: https://www.picturehouses.com/movie-details/029/HO00017653/the-stranger\nvia Pictures (pictures.london)
LOCATION:Finsbury Park Picturehouse\, Unit B\, Finsbury Park Station\, Finsbury Park\, N4 3FP
URL:https://www.picturehouses.com/movie-details/029/HO00017653/the-stranger
STATUS:CONFIRMED
END:VEVENT
END:VCALENDAR