BEGIN:VCALENDAR
VERSION:2.0
PRODID:-//Pictures London//Cinema Listings//EN
CALSCALE:GREGORIAN
METHOD:PUBLISH
X-WR-CALNAME:Pictures London Cinema
BEGIN:VEVENT
UID:1098cee5-ad7f-4783-9da5-54b004ae7e03@pictures.london
DTSTART:20260421T173000Z
DTEND:20260421T190600Z
SUMMARY:Rebuilding (2025) at Ealing Picturehouse
DESCRIPTION:Rebuilding (2025)\nat Ealing Picturehouse\nBook: https://www.picturehouses.com/movie-details/031/HO00017446/rebuilding\nvia Pictures (pictures.london)
LOCATION:Ealing Picturehouse\, The Ealing Cinema\, Ealing Green\, Ealing\, W5 2PA
URL:https://www.picturehouses.com/movie-details/031/HO00017446/rebuilding
STATUS:CONFIRMED
END:VEVENT
END:VCALENDAR