BEGIN:VCALENDAR
VERSION:2.0
PRODID:-//Pictures London//Cinema Listings//EN
CALSCALE:GREGORIAN
METHOD:PUBLISH
X-WR-CALNAME:Pictures London Cinema
BEGIN:VEVENT
UID:1052d262-2037-4e84-8e01-0f215d75339f@pictures.london
DTSTART:20260421T184000Z
DTEND:20260421T201900Z
SUMMARY:Glenrothan (2026) at Peckhamplex
DESCRIPTION:Glenrothan (2026)\nat Peckhamplex\nBook: https://ticketing.eu.veezi.com/purchase/79572?siteToken=zkD3Bh7H%2fkuZI9VTgCj%2bgg%3d%3d\nvia Pictures (pictures.london)
LOCATION:Peckhamplex\, 95A Rye Lane\, Peckham\, SE15 4ST
URL:https://ticketing.eu.veezi.com/purchase/79572?siteToken=zkD3Bh7H%2fkuZI9VTgCj%2bgg%3d%3d
STATUS:CONFIRMED
END:VEVENT
END:VCALENDAR