BEGIN:VCALENDAR
VERSION:2.0
PRODID:-//Pictures London//Cinema Listings//EN
CALSCALE:GREGORIAN
METHOD:PUBLISH
X-WR-CALNAME:Pictures London Cinema
BEGIN:VEVENT
UID:1020f738-3f3c-4181-96ae-b408269b4f1a@pictures.london
DTSTART:20260421T170000Z
DTEND:20260421T194100Z
SUMMARY:The Secret Agent (2025) at Finsbury Park Picturehouse
DESCRIPTION:The Secret Agent (2025)\nat Finsbury Park Picturehouse\nBook: https://www.picturehouses.com/movie-details/029/HO00017300/the-secret-agent\nvia Pictures (pictures.london)
LOCATION:Finsbury Park Picturehouse\, Unit B\, Finsbury Park Station\, Finsbury Park\, N4 3FP
URL:https://www.picturehouses.com/movie-details/029/HO00017300/the-secret-agent
STATUS:CONFIRMED
END:VEVENT
END:VCALENDAR