BEGIN:VCALENDAR
VERSION:2.0
PRODID:-//Pictures London//Cinema Listings//EN
CALSCALE:GREGORIAN
METHOD:PUBLISH
X-WR-CALNAME:Pictures London Cinema
BEGIN:VEVENT
UID:0fed1b7e-673d-4729-8eab-b1616d81b58b@pictures.london
DTSTART:20260420T202000Z
DTEND:20260420T225600Z
SUMMARY:The Wizard of the Kremlin (2026) at The Lexi Cinema
DESCRIPTION:The Wizard of the Kremlin (2026)\nat The Lexi Cinema\nBook: https://thelexicinema.co.uk/TheLexiCinema.dll/Booking?Booking=TSelectItems.waSelectItemsPrompt.TcsWebMenuItem_0.TcsWebTab_0.TcsPerformance_9705608.TcsSection_5209807\nvia Pictures (pictures.london)
LOCATION:The Lexi Cinema\, 194B Chamberlayne Road\, Kensal Rise\, NW10 3JU
URL:https://thelexicinema.co.uk/TheLexiCinema.dll/Booking?Booking=TSelectItems.waSelectItemsPrompt.TcsWebMenuItem_0.TcsWebTab_0.TcsPerformance_9705608.TcsSection_5209807
STATUS:CONFIRMED
END:VEVENT
END:VCALENDAR