BEGIN:VCALENDAR
VERSION:2.0
PRODID:-//Pictures London//Cinema Listings//EN
CALSCALE:GREGORIAN
METHOD:PUBLISH
X-WR-CALNAME:Pictures London Cinema
BEGIN:VEVENT
UID:0f98a975-fcab-474c-91dc-1cbca81cc1b3@pictures.london
DTSTART:20260421T153000Z
DTEND:20260421T173600Z
SUMMARY:Colours of Time (2025) at Crouch End Picturehouse
DESCRIPTION:Colours of Time (2025)\nat Crouch End Picturehouse\nBook: https://www.picturehouses.com/movie-details/024/HO00017771/colours-of-time\nvia Pictures (pictures.london)
LOCATION:Crouch End Picturehouse\, 165 Tottenham Lane\, Crouch End\, N8 8HP
URL:https://www.picturehouses.com/movie-details/024/HO00017771/colours-of-time
STATUS:CONFIRMED
END:VEVENT
END:VCALENDAR