BEGIN:VCALENDAR
VERSION:2.0
PRODID:-//Pictures London//Cinema Listings//EN
CALSCALE:GREGORIAN
METHOD:PUBLISH
X-WR-CALNAME:Pictures London Cinema
BEGIN:VEVENT
UID:0f86e833-a2d1-4cde-ba95-ff1c7c93f8a0@pictures.london
DTSTART:20260422T180000Z
DTEND:20260422T200700Z
SUMMARY:Michael (2026) at Everyman Broadgate
DESCRIPTION:Michael (2026)\nat Everyman Broadgate\nBook: https://purchase.everymancinema.com/launch/ticketing/5d9c33b9-a5cb-5797-ad95-6729b83a1880\nvia Pictures (pictures.london)
LOCATION:Everyman Broadgate\, Broadgate Circle\, Liverpool Street\, EC2M 2QS
URL:https://purchase.everymancinema.com/launch/ticketing/5d9c33b9-a5cb-5797-ad95-6729b83a1880
STATUS:CONFIRMED
END:VEVENT
END:VCALENDAR