BEGIN:VCALENDAR
VERSION:2.0
PRODID:-//Pictures London//Cinema Listings//EN
CALSCALE:GREGORIAN
METHOD:PUBLISH
X-WR-CALNAME:Pictures London Cinema
BEGIN:VEVENT
UID:0f4414cf-e450-4974-af47-2f261d6caa8e@pictures.london
DTSTART:20260421T203000Z
DTEND:20260421T222000Z
SUMMARY:Father Mother Sister Brother (2025) at Rich Mix
DESCRIPTION:Father Mother Sister Brother (2025)\nat Rich Mix\nBook: https://richmix.org.uk/whats-on/cinema/father-mother-sister-brother/\nvia Pictures (pictures.london)
LOCATION:Rich Mix\, 35-47 Bethnal Green Road\, Shoreditch\, E1 6LA
URL:https://richmix.org.uk/whats-on/cinema/father-mother-sister-brother/
STATUS:CONFIRMED
END:VEVENT
END:VCALENDAR