BEGIN:VCALENDAR
VERSION:2.0
PRODID:-//Pictures London//Cinema Listings//EN
CALSCALE:GREGORIAN
METHOD:PUBLISH
X-WR-CALNAME:Pictures London Cinema
BEGIN:VEVENT
UID:0f27b5cf-d104-4e74-9e96-154d4d607ef2@pictures.london
DTSTART:20260501T163000Z
DTEND:20260501T182900Z
SUMMARY:The Devil Wears Prada 2 (2026) at Everyman Stratford International
DESCRIPTION:The Devil Wears Prada 2 (2026)\nat Everyman Stratford International\nBook: https://purchase.everymancinema.com/launch/ticketing/b00f4a3b-14dd-5cf6-bb6e-245854787408\nvia Pictures (pictures.london)
LOCATION:Everyman Stratford International\, International Way\, Stratford\, E20 1GL
URL:https://purchase.everymancinema.com/launch/ticketing/b00f4a3b-14dd-5cf6-bb6e-245854787408
STATUS:CONFIRMED
END:VEVENT
END:VCALENDAR