BEGIN:VCALENDAR
VERSION:2.0
PRODID:-//Pictures London//Cinema Listings//EN
CALSCALE:GREGORIAN
METHOD:PUBLISH
X-WR-CALNAME:Pictures London Cinema
BEGIN:VEVENT
UID:0eff34e6-d349-4fee-8b7f-0976365e2909@pictures.london
DTSTART:20260421T121500Z
DTEND:20260421T141500Z
SUMMARY:AKIRA (2026 Re-release) (Subbed) (2026) at Everyman Crystal Palace
DESCRIPTION:AKIRA (2026 Re-release) (Subbed) (2026)\nat Everyman Crystal Palace\nFormat: DCP_4K\nBook: https://purchase.everymancinema.com/launch/ticketing/4c7cd9bd-80b5-50bf-84f7-e0d3cf0a9758\nvia Pictures (pictures.london)
LOCATION:Everyman Crystal Palace\, 25 Church Road\, Crystal Palace\, SE19 2AE
URL:https://purchase.everymancinema.com/launch/ticketing/4c7cd9bd-80b5-50bf-84f7-e0d3cf0a9758
STATUS:CONFIRMED
END:VEVENT
END:VCALENDAR