BEGIN:VCALENDAR
VERSION:2.0
PRODID:-//Pictures London//Cinema Listings//EN
CALSCALE:GREGORIAN
METHOD:PUBLISH
X-WR-CALNAME:Pictures London Cinema
BEGIN:VEVENT
UID:0d569cbd-ef70-43d4-a114-6c271eb8ac04@pictures.london
DTSTART:20260421T182000Z
DTEND:20260421T203300Z
SUMMARY:La Grazia (2025) at Olympic Studios
DESCRIPTION:La Grazia (2025)\nat Olympic Studios\nBook: https://web1.empire.mycloudcinema.com/#/book/54992\nvia Pictures (pictures.london)
LOCATION:Olympic Studios\, 117-123 Church Road\, Barnes\, SW13 9HL
URL:https://web1.empire.mycloudcinema.com/#/book/54992
STATUS:CONFIRMED
END:VEVENT
END:VCALENDAR