BEGIN:VCALENDAR
VERSION:2.0
PRODID:-//Pictures London//Cinema Listings//EN
CALSCALE:GREGORIAN
METHOD:PUBLISH
X-WR-CALNAME:Pictures London Cinema
BEGIN:VEVENT
UID:0d2ae584-5bae-4a8e-915e-975336206f09@pictures.london
DTSTART:20260425T190000Z
DTEND:20260425T210000Z
SUMMARY:Rave Culture - A new era (2025) at Rio Cinema
DESCRIPTION:Rave Culture - A new era (2025)\nat Rio Cinema\nBook: https://riocinema.org.uk/Rio.dll/WhatsOn?f=1967545\nvia Pictures (pictures.london)
LOCATION:Rio Cinema\, 107 Kingsland High Street\, Dalston\, E8 2PB
URL:https://riocinema.org.uk/Rio.dll/WhatsOn?f=1967545
STATUS:CONFIRMED
END:VEVENT
END:VCALENDAR