BEGIN:VCALENDAR
VERSION:2.0
PRODID:-//Pictures London//Cinema Listings//EN
CALSCALE:GREGORIAN
METHOD:PUBLISH
X-WR-CALNAME:Pictures London Cinema
BEGIN:VEVENT
UID:0ce0c8ad-aa02-40f3-ae1d-117e374f1408@pictures.london
DTSTART:20260422T162000Z
DTEND:20260422T181000Z
SUMMARY:The Magic Faraway Tree (2026) at Clapham Picturehouse
DESCRIPTION:The Magic Faraway Tree (2026)\nat Clapham Picturehouse\nBook: https://www.picturehouses.com/movie-details/020/HO00017688/the-magic-faraway-tree\nvia Pictures (pictures.london)
LOCATION:Clapham Picturehouse\, 76 Venn Street\, Clapham\, SW4 7UL
URL:https://www.picturehouses.com/movie-details/020/HO00017688/the-magic-faraway-tree
STATUS:CONFIRMED
END:VEVENT
END:VCALENDAR