BEGIN:VCALENDAR
VERSION:2.0
PRODID:-//Pictures London//Cinema Listings//EN
CALSCALE:GREGORIAN
METHOD:PUBLISH
X-WR-CALNAME:Pictures London Cinema
BEGIN:VEVENT
UID:0cc5442e-4a5e-47bc-8148-8c74a01c5e36@pictures.london
DTSTART:20260423T211500Z
DTEND:20260423T223800Z
SUMMARY:Faster\, Pussycat! Kill! Kill! (1965) at BFI Southbank
DESCRIPTION:Faster\, Pussycat! Kill! Kill! (1965)\nat BFI Southbank\nBook: https://whatson.bfi.org.uk/Online/default.asp?doWork::WScontent::loadArticle=Load&BOparam::WScontent::loadArticle::article_id=2FB01565-9BEC-4735-A224-3B5FDD7BDB1B&BOparam::WScontent::loadArticle::context_id=EB88D19B-A086-4F98-B0A2-C408342D318B\nvia Pictures (pictures.london)
LOCATION:BFI Southbank\, Belvedere Road\, South Bank\, SE1 8XT
URL:https://whatson.bfi.org.uk/Online/default.asp?doWork::WScontent::loadArticle=Load&BOparam::WScontent::loadArticle::article_id=2FB01565-9BEC-4735-A224-3B5FDD7BDB1B&BOparam::WScontent::loadArticle::context_id=EB88D19B-A086-4F98-B0A2-C408342D318B
STATUS:CONFIRMED
END:VEVENT
END:VCALENDAR