BEGIN:VCALENDAR
VERSION:2.0
PRODID:-//Pictures London//Cinema Listings//EN
CALSCALE:GREGORIAN
METHOD:PUBLISH
X-WR-CALNAME:Pictures London Cinema
BEGIN:VEVENT
UID:0cc076ff-3a5d-4043-b8f6-1b3055917459@pictures.london
DTSTART:20260421T163000Z
DTEND:20260421T190700Z
SUMMARY:Project Hail Mary (2026) at Everyman Baker Street
DESCRIPTION:Project Hail Mary (2026)\nat Everyman Baker Street\nBook: https://purchase.everymancinema.com/launch/ticketing/5b0f58e8-455d-5047-97d3-2bf7492ea35b\nvia Pictures (pictures.london)
LOCATION:Everyman Baker Street\, 96-98 Baker Street\, Marylebone\, W1U 6AG
URL:https://purchase.everymancinema.com/launch/ticketing/5b0f58e8-455d-5047-97d3-2bf7492ea35b
STATUS:CONFIRMED
END:VEVENT
END:VCALENDAR