BEGIN:VCALENDAR
VERSION:2.0
PRODID:-//Pictures London//Cinema Listings//EN
CALSCALE:GREGORIAN
METHOD:PUBLISH
X-WR-CALNAME:Pictures London Cinema
BEGIN:VEVENT
UID:0c38aa6b-98f8-4bcf-9e7e-9d24f44cc50f@pictures.london
DTSTART:20260421T194500Z
DTEND:20260421T222200Z
SUMMARY:Project Hail Mary (2026) at Everyman Barnet
DESCRIPTION:Project Hail Mary (2026)\nat Everyman Barnet\nBook: https://purchase.everymancinema.com/launch/ticketing/1cd1bf00-54d3-5d32-a15f-e721dac7698f\nvia Pictures (pictures.london)
LOCATION:Everyman Barnet\, Great North Road\, Barnet\, EN5 5SJ
URL:https://purchase.everymancinema.com/launch/ticketing/1cd1bf00-54d3-5d32-a15f-e721dac7698f
STATUS:CONFIRMED
END:VEVENT
END:VCALENDAR