BEGIN:VCALENDAR
VERSION:2.0
PRODID:-//Pictures London//Cinema Listings//EN
CALSCALE:GREGORIAN
METHOD:PUBLISH
X-WR-CALNAME:Pictures London Cinema
BEGIN:VEVENT
UID:0bfe71de-4549-4117-b4c7-04b619c6f110@pictures.london
DTSTART:20260421T150000Z
DTEND:20260421T170600Z
SUMMARY:Colours of Time (2025) at Cine Lumiere
DESCRIPTION:Colours of Time (2025)\nat Cine Lumiere\nBook: https://cinelumiere.savoysystems.co.uk/CineLumiere.dll/TSelectItems.waSelectItemsPrompt.TcsWebMenuItem_600.TcsWebTab_601.TcsPerformance_6687378.TcsSection_3841519\nvia Pictures (pictures.london)
LOCATION:Cine Lumiere\, 17 Queensberry Place\, South Kensington\, SW7 2DT
URL:https://cinelumiere.savoysystems.co.uk/CineLumiere.dll/TSelectItems.waSelectItemsPrompt.TcsWebMenuItem_600.TcsWebTab_601.TcsPerformance_6687378.TcsSection_3841519
STATUS:CONFIRMED
END:VEVENT
END:VCALENDAR