BEGIN:VCALENDAR
VERSION:2.0
PRODID:-//Pictures London//Cinema Listings//EN
CALSCALE:GREGORIAN
METHOD:PUBLISH
X-WR-CALNAME:Pictures London Cinema
BEGIN:VEVENT
UID:0bbf3a2a-e1c6-40a0-b086-f1c3b67028d1@pictures.london
DTSTART:20260421T163000Z
DTEND:20260421T183400Z
SUMMARY:Akira (1988) at Everyman Stratford International
DESCRIPTION:Akira (1988)\nat Everyman Stratford International\nFormat: DCP_4K\nBook: https://purchase.everymancinema.com/launch/ticketing/4538c8ef-dc88-5e0f-8e5d-5bd74034d2c3\nvia Pictures (pictures.london)
LOCATION:Everyman Stratford International\, International Way\, Stratford\, E20 1GL
URL:https://purchase.everymancinema.com/launch/ticketing/4538c8ef-dc88-5e0f-8e5d-5bd74034d2c3
STATUS:CONFIRMED
END:VEVENT
END:VCALENDAR