BEGIN:VCALENDAR
VERSION:2.0
PRODID:-//Pictures London//Cinema Listings//EN
CALSCALE:GREGORIAN
METHOD:PUBLISH
X-WR-CALNAME:Pictures London Cinema
BEGIN:VEVENT
UID:0b97d4d1-09f4-4cdd-8a5d-f7d21d015ee0@pictures.london
DTSTART:20260421T164000Z
DTEND:20260421T182500Z
SUMMARY:The Drama (2026) at Curzon Aldgate
DESCRIPTION:The Drama (2026)\nat Curzon Aldgate\nBook: https://www.curzon.com/films/the-drama/HO00006892/\nvia Pictures (pictures.london)
LOCATION:Curzon Aldgate\, 2 Whitechapel High Street\, Aldgate\, E1 8FA
URL:https://www.curzon.com/films/the-drama/HO00006892/
STATUS:CONFIRMED
END:VEVENT
END:VCALENDAR