BEGIN:VCALENDAR
VERSION:2.0
PRODID:-//Pictures London//Cinema Listings//EN
CALSCALE:GREGORIAN
METHOD:PUBLISH
X-WR-CALNAME:Pictures London Cinema
BEGIN:VEVENT
UID:0b3efa05-3352-43a9-9c68-fef170b4329a@pictures.london
DTSTART:20260422T140000Z
DTEND:20260422T162000Z
SUMMARY:All My Sons (2019) at Finsbury Park Picturehouse
DESCRIPTION:All My Sons (2019)\nat Finsbury Park Picturehouse\nBook: https://www.picturehouses.com/movie-details/029/HO00017466/national-theatre-live-all-my-sons-2026\nvia Pictures (pictures.london)
LOCATION:Finsbury Park Picturehouse\, Unit B\, Finsbury Park Station\, Finsbury Park\, N4 3FP
URL:https://www.picturehouses.com/movie-details/029/HO00017466/national-theatre-live-all-my-sons-2026
STATUS:CONFIRMED
END:VEVENT
END:VCALENDAR