BEGIN:VCALENDAR
VERSION:2.0
PRODID:-//Pictures London//Cinema Listings//EN
CALSCALE:GREGORIAN
METHOD:PUBLISH
X-WR-CALNAME:Pictures London Cinema
BEGIN:VEVENT
UID:0b057e76-a3ce-4fcc-95ea-5ca26b6e60d1@pictures.london
DTSTART:20260425T181000Z
DTEND:20260425T200200Z
SUMMARY:Gallipoli (1981) at BFI Southbank
DESCRIPTION:Gallipoli (1981)\nat BFI Southbank\nEvent: intro\nBook: https://whatson.bfi.org.uk/Online/default.asp?doWork::WScontent::loadArticle=Load&BOparam::WScontent::loadArticle::article_id=1FABC9BD-6A47-433E-A2AD-A7F1D5C8FC7C&BOparam::WScontent::loadArticle::context_id=BC6D9B55-1FBA-4E74-8039-6A619BDCE4C5\nvia Pictures (pictures.london)
LOCATION:BFI Southbank\, Belvedere Road\, South Bank\, SE1 8XT
URL:https://whatson.bfi.org.uk/Online/default.asp?doWork::WScontent::loadArticle=Load&BOparam::WScontent::loadArticle::article_id=1FABC9BD-6A47-433E-A2AD-A7F1D5C8FC7C&BOparam::WScontent::loadArticle::context_id=BC6D9B55-1FBA-4E74-8039-6A619BDCE4C5
STATUS:CONFIRMED
END:VEVENT
END:VCALENDAR