BEGIN:VCALENDAR
VERSION:2.0
PRODID:-//Pictures London//Cinema Listings//EN
CALSCALE:GREGORIAN
METHOD:PUBLISH
X-WR-CALNAME:Pictures London Cinema
BEGIN:VEVENT
UID:0aabcc9d-4a5b-4110-9c67-cde5e04243e2@pictures.london
DTSTART:20260501T133000Z
DTEND:20260501T152900Z
SUMMARY:The Devil Wears Prada 2 (2026) at Everyman Stratford International
DESCRIPTION:The Devil Wears Prada 2 (2026)\nat Everyman Stratford International\nBook: https://purchase.everymancinema.com/launch/ticketing/22413202-ea2d-5493-a76a-967851d7efc5\nvia Pictures (pictures.london)
LOCATION:Everyman Stratford International\, International Way\, Stratford\, E20 1GL
URL:https://purchase.everymancinema.com/launch/ticketing/22413202-ea2d-5493-a76a-967851d7efc5
STATUS:CONFIRMED
END:VEVENT
END:VCALENDAR